BEGIN:VCALENDAR
PRODID:-//eluceo/ical//2.0/EN
VERSION:2.0
CALSCALE:GREGORIAN
BEGIN:VEVENT
UID:event-27
DTSTAMP:20260425T134711Z
SUMMARY:Vergadering hoofdbestuur
DESCRIPTION:
DTSTART:20250203T090000Z
DTEND:20250203T130000Z
LOCATION:Bladel
END:VEVENT
BEGIN:VTIMEZONE
TZID:UTC
BEGIN:STANDARD
DTSTART:20250203T090000
TZNAME:UTC
TZOFFSETTO:+0000
TZOFFSETFROM:+0000
END:STANDARD
END:VTIMEZONE
END:VCALENDAR
